BEGIN:VCALENDAR
PRODID:-//univer10295//EN
VERSION:2.0
BEGIN:VEVENT
SUMMARY:Universal Auctions Group Ltd: Massive Multi-Lot Auction; Ex-Fleet Vans, Agri, Construction &amp; Heavy Plant Machinery And Much More!  ends Monday 20th April, Not To Be Missed!!l
PRIORITY:0
CLASS:PUBLIC
DTSTART:20260413T110000Z
DTEND:20260420T204110Z
DESCRIPTION:
X-ALT-DESC;FMTTYPE=text/html:
LOCATION:  ,   ,   ,   , See lot description,   , United Kingdom
END:VEVENT
END:VCALENDAR