BEGIN:VCALENDAR
PRODID:-//univer10296//EN
VERSION:2.0
BEGIN:VEVENT
SUMMARY:Universal Auctions Group Ltd: Over 700 lots: Ex-Fleet Vehicles, Agri &amp; Farm, Heavy Plant, Machinery, HGVs &amp; Much More ends Monday 20th April
PRIORITY:0
CLASS:PUBLIC
DTSTART:20260414T110000Z
DTEND:20260420T160840Z
DESCRIPTION:
X-ALT-DESC;FMTTYPE=text/html:
LOCATION:  ,   ,   ,   , See lot description,   , United Kingdom
END:VEVENT
END:VCALENDAR