BEGIN:VCALENDAR
PRODID:-//univer10309//EN
VERSION:2.0
BEGIN:VEVENT
SUMMARY:Universal Auctions Group Ltd: NEW LOTS ADDED DAILY! CATERING CLEARANCE SALE - ALL LOTS MUST BE SOLD! ENDS WEDNESDAY 29TH APRIL FROM 9AM
PRIORITY:0
CLASS:PUBLIC
DTSTART:20260408T080000Z
DTEND:20260429T080000Z
DESCRIPTION:
X-ALT-DESC;FMTTYPE=text/html:
LOCATION:  ,   ,   ,   , See lot description,   , United Kingdom
END:VEVENT
END:VCALENDAR