BEGIN:VCALENDAR
PRODID:-//univer10301//EN
VERSION:2.0
BEGIN:VEVENT
SUMMARY:Universal Auctions Group Ltd: COMING SOON ends Sunday 10th May
PRIORITY:0
CLASS:PUBLIC
DTSTART:20260504T110000Z
DTEND:20260510T180000Z
DESCRIPTION:
X-ALT-DESC;FMTTYPE=text/html:
LOCATION:  ,   ,   ,   , See lot description,   , United Kingdom
END:VEVENT
END:VCALENDAR