BEGIN:VCALENDAR
PRODID:-//univer10302//EN
VERSION:2.0
BEGIN:VEVENT
SUMMARY:Universal Auctions Group Ltd: COMING SOON ends Monday 11th May
PRIORITY:0
CLASS:PUBLIC
DTSTART:20260505T110000Z
DTEND:20260511T140000Z
DESCRIPTION:
X-ALT-DESC;FMTTYPE=text/html:
LOCATION:  ,   ,   ,   , See lot description,   , United Kingdom
END:VEVENT
END:VCALENDAR