BEGIN:VCALENDAR
PRODID:-//univer10307//EN
VERSION:2.0
BEGIN:VEVENT
SUMMARY:Universal Auctions Group Ltd: COMING SOON ends Sunday 31st May
PRIORITY:0
CLASS:PUBLIC
DTSTART:20260525T110000Z
DTEND:20260531T180000Z
DESCRIPTION:
X-ALT-DESC;FMTTYPE=text/html:
LOCATION:  ,   ,   ,   , See lot description,   , United Kingdom
END:VEVENT
END:VCALENDAR